BEGIN:VCALENDAR
VERSION:2.0
PRODID:-//EURO working group on Stochastic Optimization - ECPv6.15.20//NONSGML v1.0//EN
CALSCALE:GREGORIAN
METHOD:PUBLISH
X-ORIGINAL-URL:https://ewgso.euro-online.org
X-WR-CALDESC:Events for EURO working group on Stochastic Optimization
REFRESH-INTERVAL;VALUE=DURATION:PT1H
X-Robots-Tag:noindex
X-PUBLISHED-TTL:PT1H
BEGIN:VTIMEZONE
TZID:Europe/London
BEGIN:DAYLIGHT
TZOFFSETFROM:+0000
TZOFFSETTO:+0100
TZNAME:BST
DTSTART:20210328T010000
END:DAYLIGHT
BEGIN:STANDARD
TZOFFSETFROM:+0100
TZOFFSETTO:+0000
TZNAME:GMT
DTSTART:20211031T010000
END:STANDARD
BEGIN:DAYLIGHT
TZOFFSETFROM:+0000
TZOFFSETTO:+0100
TZNAME:BST
DTSTART:20220327T010000
END:DAYLIGHT
BEGIN:STANDARD
TZOFFSETFROM:+0100
TZOFFSETTO:+0000
TZNAME:GMT
DTSTART:20221030T010000
END:STANDARD
BEGIN:DAYLIGHT
TZOFFSETFROM:+0000
TZOFFSETTO:+0100
TZNAME:BST
DTSTART:20230326T010000
END:DAYLIGHT
BEGIN:STANDARD
TZOFFSETFROM:+0100
TZOFFSETTO:+0000
TZNAME:GMT
DTSTART:20231029T010000
END:STANDARD
END:VTIMEZONE
BEGIN:VEVENT
DTSTART;VALUE=DATE:20220404
DTEND;VALUE=DATE:20220409
DTSTAMP:20260420T165650
CREATED:20250710T105040Z
LAST-MODIFIED:20250710T105040Z
UID:315-1649030400-1649462399@ewgso.euro-online.org
SUMMARY:Copenhagen PhDSchool of Stochastic Programming
DESCRIPTION:Copenhagen PhDSchool of Stochastic Programming\, April 4th – 8th\, Department of Mathematical Sciences\, University of Copenhagen\, Denmark organized by Giovanni Pantuso and Trine Boomsma
URL:https://ewgso.euro-online.org/event/copenhagen-phdschool-of-stochastic-programming/
LOCATION:University of Copenhagen\, Dept. of Mathematical Sciences\, Dept. of Mathematical Sciences\, Universitetsparken 5\, 2100 Copenhagen\, Copenhagen\, Denmark
END:VEVENT
END:VCALENDAR